BEGIN:VCALENDAR
VERSION:2.0
PRODID:-//Woodside Club - ECPv6.15.20//NONSGML v1.0//EN
CALSCALE:GREGORIAN
METHOD:PUBLISH
X-ORIGINAL-URL:https://clubwoodside.com
X-WR-CALDESC:Events for Woodside Club
REFRESH-INTERVAL;VALUE=DURATION:PT1H
X-Robots-Tag:noindex
X-PUBLISHED-TTL:PT1H
BEGIN:VTIMEZONE
TZID:America/Chicago
BEGIN:DAYLIGHT
TZOFFSETFROM:-0600
TZOFFSETTO:-0500
TZNAME:CDT
DTSTART:20230312T080000
END:DAYLIGHT
BEGIN:STANDARD
TZOFFSETFROM:-0500
TZOFFSETTO:-0600
TZNAME:CST
DTSTART:20231105T070000
END:STANDARD
BEGIN:DAYLIGHT
TZOFFSETFROM:-0600
TZOFFSETTO:-0500
TZNAME:CDT
DTSTART:20240310T080000
END:DAYLIGHT
BEGIN:STANDARD
TZOFFSETFROM:-0500
TZOFFSETTO:-0600
TZNAME:CST
DTSTART:20241103T070000
END:STANDARD
BEGIN:DAYLIGHT
TZOFFSETFROM:-0600
TZOFFSETTO:-0500
TZNAME:CDT
DTSTART:20250309T080000
END:DAYLIGHT
BEGIN:STANDARD
TZOFFSETFROM:-0500
TZOFFSETTO:-0600
TZNAME:CST
DTSTART:20251102T070000
END:STANDARD
END:VTIMEZONE
BEGIN:VEVENT
DTSTART;TZID=America/Chicago:20240521T160000
DTEND;TZID=America/Chicago:20240521T180000
DTSTAMP:20260424T113015
CREATED:20240514T195117Z
LAST-MODIFIED:20240515T171844Z
UID:797642-1716307200-1716314400@clubwoodside.com
SUMMARY:Deadlift Pop-Up Workshop
DESCRIPTION:Join Woodside Personal Trainer Cavan Hudson for an introductory deadlifting workshop. During this seminar\, Cavan will cover appropriate warm up technique\, proper setup and stance\, correct execution to minimize injury risk\, common mistakes to avoid and benefits of incorporating deadlifts into your routine. \nRSVP required. A standard $10 no show fee applies to this event. \nRSVP
URL:https://clubwoodside.com/event/deadlift-pop-up-workshop/
LOCATION:Woodside | The Playground\, 2001 West 47th Place\, Westwood\, KS\, 66205\, United States
CATEGORIES:Strength
ATTACH;FMTTYPE=image/jpeg:https://clubwoodside.com/wp-content/uploads/2024/05/DeadliftPop-UpWorkshop_eventimage.jpg
END:VEVENT
END:VCALENDAR