BEGIN:VCALENDAR
VERSION:2.0
PRODID:-//Woodside Club - ECPv6.15.20//NONSGML v1.0//EN
CALSCALE:GREGORIAN
METHOD:PUBLISH
X-ORIGINAL-URL:https://clubwoodside.com
X-WR-CALDESC:Events for Woodside Club
REFRESH-INTERVAL;VALUE=DURATION:PT1H
X-Robots-Tag:noindex
X-PUBLISHED-TTL:PT1H
BEGIN:VTIMEZONE
TZID:America/Chicago
BEGIN:DAYLIGHT
TZOFFSETFROM:-0600
TZOFFSETTO:-0500
TZNAME:CDT
DTSTART:20220313T080000
END:DAYLIGHT
BEGIN:STANDARD
TZOFFSETFROM:-0500
TZOFFSETTO:-0600
TZNAME:CST
DTSTART:20221106T070000
END:STANDARD
BEGIN:DAYLIGHT
TZOFFSETFROM:-0600
TZOFFSETTO:-0500
TZNAME:CDT
DTSTART:20230312T080000
END:DAYLIGHT
BEGIN:STANDARD
TZOFFSETFROM:-0500
TZOFFSETTO:-0600
TZNAME:CST
DTSTART:20231105T070000
END:STANDARD
BEGIN:DAYLIGHT
TZOFFSETFROM:-0600
TZOFFSETTO:-0500
TZNAME:CDT
DTSTART:20240310T080000
END:DAYLIGHT
BEGIN:STANDARD
TZOFFSETFROM:-0500
TZOFFSETTO:-0600
TZNAME:CST
DTSTART:20241103T070000
END:STANDARD
END:VTIMEZONE
BEGIN:VEVENT
DTSTART;TZID=America/Chicago:20230605T070000
DTEND;TZID=America/Chicago:20230605T110000
DTSTAMP:20260425T181019
CREATED:20230324T193835Z
LAST-MODIFIED:20230324T193835Z
UID:792180-1685948400-1685962800@clubwoodside.com
SUMMARY:Woodside Waves First Day of Practice
DESCRIPTION:Lap swimming is unavailable during Woodside Waves Swim Team practice June 5 – July 21\, Monday through Friday\, 7 – 11AM.
URL:https://clubwoodside.com/event/woodside-waves-first-day-of-practice/
LOCATION:Woodside | Family Pool\, 2000 West 47th Place\, Westwood\, KS\, 66205\, United States
CATEGORIES:Woodside Waves
ATTACH;FMTTYPE=image/jpeg:https://clubwoodside.com/wp-content/uploads/2023/03/D77U8906_crop-scaled.jpg
END:VEVENT
END:VCALENDAR