BEGIN:VCALENDAR
VERSION:2.0
PRODID:-//Woodside Club - ECPv6.15.20//NONSGML v1.0//EN
CALSCALE:GREGORIAN
METHOD:PUBLISH
X-ORIGINAL-URL:https://clubwoodside.com
X-WR-CALDESC:Events for Woodside Club
REFRESH-INTERVAL;VALUE=DURATION:PT1H
X-Robots-Tag:noindex
X-PUBLISHED-TTL:PT1H
BEGIN:VTIMEZONE
TZID:America/Chicago
BEGIN:DAYLIGHT
TZOFFSETFROM:-0600
TZOFFSETTO:-0500
TZNAME:CDT
DTSTART:20250309T080000
END:DAYLIGHT
BEGIN:STANDARD
TZOFFSETFROM:-0500
TZOFFSETTO:-0600
TZNAME:CST
DTSTART:20251102T070000
END:STANDARD
BEGIN:DAYLIGHT
TZOFFSETFROM:-0600
TZOFFSETTO:-0500
TZNAME:CDT
DTSTART:20260308T080000
END:DAYLIGHT
BEGIN:STANDARD
TZOFFSETFROM:-0500
TZOFFSETTO:-0600
TZNAME:CST
DTSTART:20261101T070000
END:STANDARD
BEGIN:DAYLIGHT
TZOFFSETFROM:-0600
TZOFFSETTO:-0500
TZNAME:CDT
DTSTART:20270314T080000
END:DAYLIGHT
BEGIN:STANDARD
TZOFFSETFROM:-0500
TZOFFSETTO:-0600
TZNAME:CST
DTSTART:20271107T070000
END:STANDARD
END:VTIMEZONE
BEGIN:VEVENT
DTSTART;TZID=America/Chicago:20260428T180000
DTEND;TZID=America/Chicago:20260428T203000
DTSTAMP:20260423T201336
CREATED:20250115T165244Z
LAST-MODIFIED:20251120T204937Z
UID:802748-1777399200-1777408200@clubwoodside.com
SUMMARY:Chess Club
DESCRIPTION:Enjoy the game of chess at our biweekly Chess Club every Tuesday evening. Open to all skill levels\, join in for a chance to practice\, share strategies and enjoy chess in good company.
URL:https://clubwoodside.com/event/chess-club/2026-04-28/
LOCATION:Woodside | North Club Lounge\, 2000 West 47th Place\, Westwood\, KS\, 66205\, United States
CATEGORIES:Community
ATTACH;FMTTYPE=image/jpeg:https://clubwoodside.com/wp-content/uploads/2025/01/Chess-Club_eventcrop.jpg
END:VEVENT
BEGIN:VEVENT
DTSTART;TZID=America/Chicago:20260512T180000
DTEND;TZID=America/Chicago:20260512T203000
DTSTAMP:20260423T201336
CREATED:20250115T165244Z
LAST-MODIFIED:20251120T204938Z
UID:802749-1778608800-1778617800@clubwoodside.com
SUMMARY:Chess Club
DESCRIPTION:Enjoy the game of chess at our biweekly Chess Club every Tuesday evening. Open to all skill levels\, join in for a chance to practice\, share strategies and enjoy chess in good company.
URL:https://clubwoodside.com/event/chess-club/2026-05-12/
LOCATION:Woodside | North Club Lounge\, 2000 West 47th Place\, Westwood\, KS\, 66205\, United States
CATEGORIES:Community
ATTACH;FMTTYPE=image/jpeg:https://clubwoodside.com/wp-content/uploads/2025/01/Chess-Club_eventcrop.jpg
END:VEVENT
BEGIN:VEVENT
DTSTART;TZID=America/Chicago:20260526T180000
DTEND;TZID=America/Chicago:20260526T203000
DTSTAMP:20260423T201336
CREATED:20250115T165244Z
LAST-MODIFIED:20251120T204938Z
UID:802822-1779818400-1779827400@clubwoodside.com
SUMMARY:Chess Club
DESCRIPTION:Enjoy the game of chess at our biweekly Chess Club every Tuesday evening. Open to all skill levels\, join in for a chance to practice\, share strategies and enjoy chess in good company.
URL:https://clubwoodside.com/event/chess-club/2026-05-26/
LOCATION:Woodside | North Club Lounge\, 2000 West 47th Place\, Westwood\, KS\, 66205\, United States
CATEGORIES:Community
ATTACH;FMTTYPE=image/jpeg:https://clubwoodside.com/wp-content/uploads/2025/01/Chess-Club_eventcrop.jpg
END:VEVENT
BEGIN:VEVENT
DTSTART;TZID=America/Chicago:20260609T180000
DTEND;TZID=America/Chicago:20260609T203000
DTSTAMP:20260423T201336
CREATED:20250115T165244Z
LAST-MODIFIED:20251120T204938Z
UID:802823-1781028000-1781037000@clubwoodside.com
SUMMARY:Chess Club
DESCRIPTION:Enjoy the game of chess at our biweekly Chess Club every Tuesday evening. Open to all skill levels\, join in for a chance to practice\, share strategies and enjoy chess in good company.
URL:https://clubwoodside.com/event/chess-club/2026-06-09/
LOCATION:Woodside | North Club Lounge\, 2000 West 47th Place\, Westwood\, KS\, 66205\, United States
CATEGORIES:Community
ATTACH;FMTTYPE=image/jpeg:https://clubwoodside.com/wp-content/uploads/2025/01/Chess-Club_eventcrop.jpg
END:VEVENT
BEGIN:VEVENT
DTSTART;TZID=America/Chicago:20260623T180000
DTEND;TZID=America/Chicago:20260623T203000
DTSTAMP:20260423T201336
CREATED:20250115T165244Z
LAST-MODIFIED:20251120T204938Z
UID:802824-1782237600-1782246600@clubwoodside.com
SUMMARY:Chess Club
DESCRIPTION:Enjoy the game of chess at our biweekly Chess Club every Tuesday evening. Open to all skill levels\, join in for a chance to practice\, share strategies and enjoy chess in good company.
URL:https://clubwoodside.com/event/chess-club/2026-06-23/
LOCATION:Woodside | North Club Lounge\, 2000 West 47th Place\, Westwood\, KS\, 66205\, United States
CATEGORIES:Community
ATTACH;FMTTYPE=image/jpeg:https://clubwoodside.com/wp-content/uploads/2025/01/Chess-Club_eventcrop.jpg
END:VEVENT
BEGIN:VEVENT
DTSTART;TZID=America/Chicago:20260707T180000
DTEND;TZID=America/Chicago:20260707T203000
DTSTAMP:20260423T201336
CREATED:20250115T165244Z
LAST-MODIFIED:20251120T204938Z
UID:802825-1783447200-1783456200@clubwoodside.com
SUMMARY:Chess Club
DESCRIPTION:Enjoy the game of chess at our biweekly Chess Club every Tuesday evening. Open to all skill levels\, join in for a chance to practice\, share strategies and enjoy chess in good company.
URL:https://clubwoodside.com/event/chess-club/2026-07-07/
LOCATION:Woodside | North Club Lounge\, 2000 West 47th Place\, Westwood\, KS\, 66205\, United States
CATEGORIES:Community
ATTACH;FMTTYPE=image/jpeg:https://clubwoodside.com/wp-content/uploads/2025/01/Chess-Club_eventcrop.jpg
END:VEVENT
BEGIN:VEVENT
DTSTART;TZID=America/Chicago:20260721T180000
DTEND;TZID=America/Chicago:20260721T203000
DTSTAMP:20260423T201336
CREATED:20250115T165244Z
LAST-MODIFIED:20251120T204939Z
UID:802826-1784656800-1784665800@clubwoodside.com
SUMMARY:Chess Club
DESCRIPTION:Enjoy the game of chess at our biweekly Chess Club every Tuesday evening. Open to all skill levels\, join in for a chance to practice\, share strategies and enjoy chess in good company.
URL:https://clubwoodside.com/event/chess-club/2026-07-21/
LOCATION:Woodside | North Club Lounge\, 2000 West 47th Place\, Westwood\, KS\, 66205\, United States
CATEGORIES:Community
ATTACH;FMTTYPE=image/jpeg:https://clubwoodside.com/wp-content/uploads/2025/01/Chess-Club_eventcrop.jpg
END:VEVENT
BEGIN:VEVENT
DTSTART;TZID=America/Chicago:20260804T180000
DTEND;TZID=America/Chicago:20260804T203000
DTSTAMP:20260423T201336
CREATED:20250115T165244Z
LAST-MODIFIED:20251120T204939Z
UID:802827-1785866400-1785875400@clubwoodside.com
SUMMARY:Chess Club
DESCRIPTION:Enjoy the game of chess at our biweekly Chess Club every Tuesday evening. Open to all skill levels\, join in for a chance to practice\, share strategies and enjoy chess in good company.
URL:https://clubwoodside.com/event/chess-club/2026-08-04/
LOCATION:Woodside | North Club Lounge\, 2000 West 47th Place\, Westwood\, KS\, 66205\, United States
CATEGORIES:Community
ATTACH;FMTTYPE=image/jpeg:https://clubwoodside.com/wp-content/uploads/2025/01/Chess-Club_eventcrop.jpg
END:VEVENT
BEGIN:VEVENT
DTSTART;TZID=America/Chicago:20260818T180000
DTEND;TZID=America/Chicago:20260818T203000
DTSTAMP:20260423T201336
CREATED:20250115T165244Z
LAST-MODIFIED:20251120T204940Z
UID:802828-1787076000-1787085000@clubwoodside.com
SUMMARY:Chess Club
DESCRIPTION:Enjoy the game of chess at our biweekly Chess Club every Tuesday evening. Open to all skill levels\, join in for a chance to practice\, share strategies and enjoy chess in good company.
URL:https://clubwoodside.com/event/chess-club/2026-08-18/
LOCATION:Woodside | North Club Lounge\, 2000 West 47th Place\, Westwood\, KS\, 66205\, United States
CATEGORIES:Community
ATTACH;FMTTYPE=image/jpeg:https://clubwoodside.com/wp-content/uploads/2025/01/Chess-Club_eventcrop.jpg
END:VEVENT
BEGIN:VEVENT
DTSTART;TZID=America/Chicago:20260901T180000
DTEND;TZID=America/Chicago:20260901T203000
DTSTAMP:20260423T201336
CREATED:20250115T165244Z
LAST-MODIFIED:20251120T204941Z
UID:802829-1788285600-1788294600@clubwoodside.com
SUMMARY:Chess Club
DESCRIPTION:Enjoy the game of chess at our biweekly Chess Club every Tuesday evening. Open to all skill levels\, join in for a chance to practice\, share strategies and enjoy chess in good company.
URL:https://clubwoodside.com/event/chess-club/2026-09-01/
LOCATION:Woodside | North Club Lounge\, 2000 West 47th Place\, Westwood\, KS\, 66205\, United States
CATEGORIES:Community
ATTACH;FMTTYPE=image/jpeg:https://clubwoodside.com/wp-content/uploads/2025/01/Chess-Club_eventcrop.jpg
END:VEVENT
BEGIN:VEVENT
DTSTART;TZID=America/Chicago:20260915T180000
DTEND;TZID=America/Chicago:20260915T203000
DTSTAMP:20260423T201336
CREATED:20250115T165244Z
LAST-MODIFIED:20251120T204941Z
UID:802830-1789495200-1789504200@clubwoodside.com
SUMMARY:Chess Club
DESCRIPTION:Enjoy the game of chess at our biweekly Chess Club every Tuesday evening. Open to all skill levels\, join in for a chance to practice\, share strategies and enjoy chess in good company.
URL:https://clubwoodside.com/event/chess-club/2026-09-15/
LOCATION:Woodside | North Club Lounge\, 2000 West 47th Place\, Westwood\, KS\, 66205\, United States
CATEGORIES:Community
ATTACH;FMTTYPE=image/jpeg:https://clubwoodside.com/wp-content/uploads/2025/01/Chess-Club_eventcrop.jpg
END:VEVENT
BEGIN:VEVENT
DTSTART;TZID=America/Chicago:20260929T180000
DTEND;TZID=America/Chicago:20260929T203000
DTSTAMP:20260423T201336
CREATED:20250115T165244Z
LAST-MODIFIED:20251120T204941Z
UID:802831-1790704800-1790713800@clubwoodside.com
SUMMARY:Chess Club
DESCRIPTION:Enjoy the game of chess at our biweekly Chess Club every Tuesday evening. Open to all skill levels\, join in for a chance to practice\, share strategies and enjoy chess in good company.
URL:https://clubwoodside.com/event/chess-club/2026-09-29/
LOCATION:Woodside | North Club Lounge\, 2000 West 47th Place\, Westwood\, KS\, 66205\, United States
CATEGORIES:Community
ATTACH;FMTTYPE=image/jpeg:https://clubwoodside.com/wp-content/uploads/2025/01/Chess-Club_eventcrop.jpg
END:VEVENT
BEGIN:VEVENT
DTSTART;TZID=America/Chicago:20261013T180000
DTEND;TZID=America/Chicago:20261013T203000
DTSTAMP:20260423T201336
CREATED:20250115T165244Z
LAST-MODIFIED:20251120T204941Z
UID:802832-1791914400-1791923400@clubwoodside.com
SUMMARY:Chess Club
DESCRIPTION:Enjoy the game of chess at our biweekly Chess Club every Tuesday evening. Open to all skill levels\, join in for a chance to practice\, share strategies and enjoy chess in good company.
URL:https://clubwoodside.com/event/chess-club/2026-10-13/
LOCATION:Woodside | North Club Lounge\, 2000 West 47th Place\, Westwood\, KS\, 66205\, United States
CATEGORIES:Community
ATTACH;FMTTYPE=image/jpeg:https://clubwoodside.com/wp-content/uploads/2025/01/Chess-Club_eventcrop.jpg
END:VEVENT
BEGIN:VEVENT
DTSTART;TZID=America/Chicago:20261027T180000
DTEND;TZID=America/Chicago:20261027T203000
DTSTAMP:20260423T201336
CREATED:20250115T165244Z
LAST-MODIFIED:20251120T204941Z
UID:802833-1793124000-1793133000@clubwoodside.com
SUMMARY:Chess Club
DESCRIPTION:Enjoy the game of chess at our biweekly Chess Club every Tuesday evening. Open to all skill levels\, join in for a chance to practice\, share strategies and enjoy chess in good company.
URL:https://clubwoodside.com/event/chess-club/2026-10-27/
LOCATION:Woodside | North Club Lounge\, 2000 West 47th Place\, Westwood\, KS\, 66205\, United States
CATEGORIES:Community
ATTACH;FMTTYPE=image/jpeg:https://clubwoodside.com/wp-content/uploads/2025/01/Chess-Club_eventcrop.jpg
END:VEVENT
BEGIN:VEVENT
DTSTART;TZID=America/Chicago:20261110T180000
DTEND;TZID=America/Chicago:20261110T203000
DTSTAMP:20260423T201336
CREATED:20250115T165244Z
LAST-MODIFIED:20251120T204942Z
UID:802834-1794333600-1794342600@clubwoodside.com
SUMMARY:Chess Club
DESCRIPTION:Enjoy the game of chess at our biweekly Chess Club every Tuesday evening. Open to all skill levels\, join in for a chance to practice\, share strategies and enjoy chess in good company.
URL:https://clubwoodside.com/event/chess-club/2026-11-10/
LOCATION:Woodside | North Club Lounge\, 2000 West 47th Place\, Westwood\, KS\, 66205\, United States
CATEGORIES:Community
ATTACH;FMTTYPE=image/jpeg:https://clubwoodside.com/wp-content/uploads/2025/01/Chess-Club_eventcrop.jpg
END:VEVENT
BEGIN:VEVENT
DTSTART;TZID=America/Chicago:20261124T180000
DTEND;TZID=America/Chicago:20261124T203000
DTSTAMP:20260423T201336
CREATED:20250115T165244Z
LAST-MODIFIED:20251120T204942Z
UID:802835-1795543200-1795552200@clubwoodside.com
SUMMARY:Chess Club
DESCRIPTION:Enjoy the game of chess at our biweekly Chess Club every Tuesday evening. Open to all skill levels\, join in for a chance to practice\, share strategies and enjoy chess in good company.
URL:https://clubwoodside.com/event/chess-club/2026-11-24/
LOCATION:Woodside | North Club Lounge\, 2000 West 47th Place\, Westwood\, KS\, 66205\, United States
CATEGORIES:Community
ATTACH;FMTTYPE=image/jpeg:https://clubwoodside.com/wp-content/uploads/2025/01/Chess-Club_eventcrop.jpg
END:VEVENT
BEGIN:VEVENT
DTSTART;TZID=America/Chicago:20261208T180000
DTEND;TZID=America/Chicago:20261208T203000
DTSTAMP:20260423T201336
CREATED:20250115T165244Z
LAST-MODIFIED:20251120T204942Z
UID:802836-1796752800-1796761800@clubwoodside.com
SUMMARY:Chess Club
DESCRIPTION:Enjoy the game of chess at our biweekly Chess Club every Tuesday evening. Open to all skill levels\, join in for a chance to practice\, share strategies and enjoy chess in good company.
URL:https://clubwoodside.com/event/chess-club/2026-12-08/
LOCATION:Woodside | North Club Lounge\, 2000 West 47th Place\, Westwood\, KS\, 66205\, United States
CATEGORIES:Community
ATTACH;FMTTYPE=image/jpeg:https://clubwoodside.com/wp-content/uploads/2025/01/Chess-Club_eventcrop.jpg
END:VEVENT
BEGIN:VEVENT
DTSTART;TZID=America/Chicago:20261222T180000
DTEND;TZID=America/Chicago:20261222T203000
DTSTAMP:20260423T201336
CREATED:20250115T165244Z
LAST-MODIFIED:20251120T204942Z
UID:802837-1797962400-1797971400@clubwoodside.com
SUMMARY:Chess Club
DESCRIPTION:Enjoy the game of chess at our biweekly Chess Club every Tuesday evening. Open to all skill levels\, join in for a chance to practice\, share strategies and enjoy chess in good company.
URL:https://clubwoodside.com/event/chess-club/2026-12-22/
LOCATION:Woodside | North Club Lounge\, 2000 West 47th Place\, Westwood\, KS\, 66205\, United States
CATEGORIES:Community
ATTACH;FMTTYPE=image/jpeg:https://clubwoodside.com/wp-content/uploads/2025/01/Chess-Club_eventcrop.jpg
END:VEVENT
END:VCALENDAR